BEGIN:VCALENDAR
VERSION:2.0
PRODID:-//Peguru - ECPv6.15.20//NONSGML v1.0//EN
CALSCALE:GREGORIAN
METHOD:PUBLISH
X-WR-CALNAME:Peguru
X-ORIGINAL-URL:https://peguru.ca
X-WR-CALDESC:Events for Peguru
REFRESH-INTERVAL;VALUE=DURATION:PT1H
X-Robots-Tag:noindex
X-PUBLISHED-TTL:PT1H
BEGIN:VTIMEZONE
TZID:UTC
BEGIN:STANDARD
TZOFFSETFROM:+0000
TZOFFSETTO:+0000
TZNAME:UTC
DTSTART:20250101T000000
END:STANDARD
END:VTIMEZONE
BEGIN:VEVENT
DTSTART;TZID=UTC:20260625T120000
DTEND;TZID=UTC:20260628T030000
DTSTAMP:20260421T185115
CREATED:20240404T025250Z
LAST-MODIFIED:20260421T161716Z
UID:40618-1782388800-1782615600@peguru.ca
SUMMARY:Countryfest
DESCRIPTION:Jelly Roll\, Nate Smith\, Tyler Hubbard and Brett Kissel are among this year’s headliners at annual outdoor country-music festival. Indoor and outdoor stages\, DJ sets and classic country tunes\, and opportunity for camping pleases all sorts of festival-goers.
URL:https://peguru.ca/event/countryfest/
LOCATION:Manitoba
CATEGORIES:Festivals,Music Festivals,Music Series,Nightlife
ATTACH;FMTTYPE=image/jpeg:https://peguru.ca/wp-content/uploads/2024/04/Dauphins-Countryfest1.jpg
END:VEVENT
BEGIN:VEVENT
DTSTART;VALUE=DATE:20260627
DTEND;VALUE=DATE:20260927
DTSTAMP:20260421T185115
CREATED:20220525T221310Z
LAST-MODIFIED:20260421T192859Z
UID:39897-1782518400-1790467199@peguru.ca
SUMMARY:Blackwater Cats Outfitter
DESCRIPTION:Full and half day fishing guided tours in Winnipeg\, Selkirk\, and Lockport hook attendees with a fun experience on the open water. All bait\, gas\, and equipment included on this aquatic adventure.
URL:https://peguru.ca/event/blackwater-cats-fishing-tour/
LOCATION:Manitoba
CATEGORIES:Tours
ATTACH;FMTTYPE=image/jpeg:https://peguru.ca/wp-content/uploads/2022/05/DSCN0912.jpg
END:VEVENT
BEGIN:VEVENT
DTSTART;TZID=UTC:20260704T100000
DTEND;TZID=UTC:20260705T190000
DTSTAMP:20260421T185115
CREATED:20230529T215918Z
LAST-MODIFIED:20260421T161839Z
UID:40777-1783159200-1783278000@peguru.ca
SUMMARY:The Summer of Locals Outdoor Market
DESCRIPTION:Local artisans\, entrepreneurs and entertainers take to the parking lot (and some indoors too!) at Outlet Collection Mall. Beer garden and an assortment of food trucks to satisfy your appetite between shopping sprees. \n 
URL:https://peguru.ca/event/the-summer-of-locals-outdoor-market/
LOCATION:Manitoba
ATTACH;FMTTYPE=image/jpeg:https://peguru.ca/wp-content/uploads/2023/05/The-Locals-Market-2-e1685379538569.jpg
END:VEVENT
BEGIN:VEVENT
DTSTART;VALUE=DATE:20260709
DTEND;VALUE=DATE:20260713
DTSTAMP:20260421T185115
CREATED:20220520T001139Z
LAST-MODIFIED:20260421T184035Z
UID:39689-1783555200-1783900799@peguru.ca
SUMMARY:Winnipeg Folk Festival
DESCRIPTION:Local and national talent returns to the stage at Winnipeg’s iconic outdoor music festival. Catch familiar favourites\, or discover new voices\, all while soaking up sun at Birds Hill Provincial Park. Come hungry—local vendors serve up bold flavours at an over-the-top restaurant strip\, which meets the level of musicians onstage.
URL:https://peguru.ca/event/winnipeg-folk-festival-2/
LOCATION:Birds Hill Provincial Park\, Oak Bank\, Manitoba\, R0E 0K0\, Canada
CATEGORIES:Festivals,Music Festivals
ATTACH;FMTTYPE=image/jpeg:https://peguru.ca/wp-content/uploads/2022/05/Big-Bluestem-April-Carandang-2019.jpg
END:VEVENT
BEGIN:VEVENT
DTSTART;VALUE=DATE:20260715
DTEND;VALUE=DATE:20260727
DTSTAMP:20260421T185115
CREATED:20220519T235654Z
LAST-MODIFIED:20260421T183916Z
UID:39686-1784073600-1785110399@peguru.ca
SUMMARY:Winnipeg Fringe Theatre Festival
DESCRIPTION:Thespians from near and far take the spotlight at this beloved annual multi-venue theatre festival\, where performances range from traditional to experimental endeavours. A full spectrum of artistic expression takes over Winnipeg’s historic Exchange District\, centered in and around Old Market Square\, where performers\, musicians\, and food trucks congregate and electrify the street.
URL:https://peguru.ca/event/winnipeg-fringe-theatre-festival-2/
LOCATION:Downtown Winnipeg
CATEGORIES:Festivals,Theatre
ATTACH;FMTTYPE=image/jpeg:https://peguru.ca/wp-content/uploads/2022/05/Winnipeg-Fringe-Theatre-Festival_Leif-Norman-1.jpg
ORGANIZER;CN="The Royal Manitoba Theatre Centre":MAILTO:info@royalmtc.ca
END:VEVENT
BEGIN:VEVENT
DTSTART;VALUE=DATE:20260717
DTEND;VALUE=DATE:20260719
DTSTAMP:20260421T185115
CREATED:20220520T003657Z
LAST-MODIFIED:20260421T185715Z
UID:39711-1784246400-1784419199@peguru.ca
SUMMARY:Super Spike
DESCRIPTION:Sports and music collide for two days at Western Canada’s largest outdoor volleyball\, ultimate frisbee\, and concert event\, where every dollar is donated to local charities. After a day of sports\, unwind in a festival atmosphere that boasts loud music\, large crowds\, and live acts in Maple Grove Rugby Park.
URL:https://peguru.ca/event/super-spike-2/
LOCATION:Maple Grove Rugby Park\, 90 Frobisher Rd\, Winnipeg\, MB\, R2N 3Z1\, Canada
CATEGORIES:Music Concerts,Sporting Events
ATTACH;FMTTYPE=image/jpeg:https://peguru.ca/wp-content/uploads/2022/05/SS2019-1859.jpg
END:VEVENT
BEGIN:VEVENT
DTSTART;VALUE=DATE:20260717
DTEND;VALUE=DATE:20260720
DTSTAMP:20260421T185115
CREATED:20230502T000047Z
LAST-MODIFIED:20260421T190002Z
UID:40625-1784246400-1784505599@peguru.ca
SUMMARY:Manitoba Stampede and Exhibition
DESCRIPTION:Manitoba’s only pro rodeo makes this stampede a unique summer experience. Watch bareback\, bull\, or saddle bronc riding and do not miss the Midway strip for food and fun. 
URL:https://peguru.ca/event/manitoba-stampede-and-exhibition/
LOCATION:Manitoba Stampede and Exhibition\, 350 Main St\, Morris\, Manitoba\, R0G 1K0\, Canada
CATEGORIES:Exhibitions,Family,Sporting Events
ATTACH;FMTTYPE=image/jpeg:https://peguru.ca/wp-content/uploads/2023/05/MBstampede-e1683064823767.jpg
END:VEVENT
BEGIN:VEVENT
DTSTART;VALUE=DATE:20260722
DTEND;VALUE=DATE:20260727
DTSTAMP:20260421T185115
CREATED:20220520T002717Z
LAST-MODIFIED:20260421T190354Z
UID:39703-1784678400-1785110399@peguru.ca
SUMMARY:Gimli International Film Festival
DESCRIPTION:The charming lakeside town of Gimli offers avid movie-goers a new experience at its five-day film festival of full-length features\, documentaries\, and experimental projects. Each night at dusk\, throw your towel down for a beach screening and enjoy a flick under the stars.
URL:https://peguru.ca/event/gimli-international-film-festival/
LOCATION:Gimli\, Gimli\, Canada
CATEGORIES:Art,Festivals
ATTACH;FMTTYPE=image/jpeg:https://peguru.ca/wp-content/uploads/2022/05/GIFF-2-e1656357394271.jpg
END:VEVENT
BEGIN:VEVENT
DTSTART;VALUE=DATE:20260724
DTEND;VALUE=DATE:20260727
DTSTAMP:20260421T185115
CREATED:20220520T221459Z
LAST-MODIFIED:20260421T191103Z
UID:39781-1784851200-1785110399@peguru.ca
SUMMARY:Manitoba Sunflower Festival in Altona
DESCRIPTION:Local pride shines bright at Altona’s family-friendly summer festival\, which has been attracting Manitobans since 1964. Dig in at a free pancake breakfast and compete for the title of Manitoba Sunflower Queen at the gathering’s annual pageant.
URL:https://peguru.ca/event/manitoba-sunflower-festival-in-altona/
LOCATION:Altona\, Altona\, Manitoba\, Canada
CATEGORIES:Family,Festivals,Shopping
ATTACH;FMTTYPE=image/jpeg:https://peguru.ca/wp-content/uploads/2022/05/IMG_9631-4.jpg
END:VEVENT
BEGIN:VEVENT
DTSTART;VALUE=DATE:20260728
DTEND;VALUE=DATE:20260731
DTSTAMP:20260421T185115
CREATED:20190618T211706Z
LAST-MODIFIED:20260421T161922Z
UID:35934-1785196800-1785455999@peguru.ca
SUMMARY:Ballet in the Park
DESCRIPTION:Photo By Michelle Blais \nOne of the city’s beloved summer traditions continues as Ballet in the Park presents its unique opportunity for all to enjoy the universal language of dance. Pack a blanket\, lawn chair or cushion (and water bottles and snacks) and gather with family and friends in the open air at Assiniboine Park’s Lyric Theatre for a slice of culture that rivals the company’s legendary Nutcracker for nostalgia and fun. Experience the incredible talents from the Company\, Professional and Recreational divisions who highlight their passion in one place. Children’s activities begin at 6:30 pm\, performance starts at 7:30pm\, and wraps up at 9pm. \n 
URL:https://peguru.ca/event/ballet-in-the-park/
LOCATION:Assiniboine Park\, 2595 Roblin Blvd\, Winnipeg\, MB\, R3R 2N7\, Canada
CATEGORIES:Family,Theatre
ATTACH;FMTTYPE=image/jpeg:https://peguru.ca/wp-content/uploads/2019/06/2024-BITP-RWB-School-AMJ-Aspirants-photo-by-Michelle-Blais-5-e1746723463747.jpg
ORGANIZER;CN="Canada's Royal Winnipeg Ballet":MAILTO:customerservice@rwb.org
END:VEVENT
BEGIN:VEVENT
DTSTART;VALUE=DATE:20260731
DTEND;VALUE=DATE:20260803
DTSTAMP:20260421T185115
CREATED:20220610T233140Z
LAST-MODIFIED:20260421T191254Z
UID:39785-1785456000-1785715199@peguru.ca
SUMMARY:Rockin the Fields of Minnedosa
DESCRIPTION:Headliners: Loverboy\, Headstones\, Trooper and Bif Naked make this three-day festival a must-see for rock fans in Manitoba. Situated at beautiful Lake Minnedosa\, music lovers can swim\, golf\, fish\, and relax between sets.  Tickets 1-888-330-8333\, rockinthefields.ca 
URL:https://peguru.ca/event/rockin-the-fields-of-minnedosa/
LOCATION:Minnedosa\, Minnedosa\, Manitoba\, Canada
CATEGORIES:Festivals,Music Festivals,Music Series,Nightlife
ATTACH;FMTTYPE=image/jpeg:https://peguru.ca/wp-content/uploads/2022/05/RockinTheFields-e1655750460483.jpg
ORGANIZER;CN="Rockin the Field of Minnedosa":MAILTO:office@rockinthefields.ca
END:VEVENT
BEGIN:VEVENT
DTSTART;VALUE=DATE:20260731
DTEND;VALUE=DATE:20260804
DTSTAMP:20260421T185115
CREATED:20220525T204135Z
LAST-MODIFIED:20260421T191524Z
UID:39789-1785456000-1785801599@peguru.ca
SUMMARY:Icelandic Festival of Manitoba in Gimli
DESCRIPTION:Home to the largest Icelandic population outside of Iceland\, the lakeside town of Gimli celebrates this rich heritage at this annual event. A sandcastle contest\, demonstrations of Viking warfare tactics\, and rows of artisan booths exhilarate the town and pay homage to its history.
URL:https://peguru.ca/event/icelandic-festival-of-manitoba-in-gimli/
LOCATION:Gimli\, Gimli\, Canada
CATEGORIES:Art,Family,Festivals,Music Series,Shopping
ATTACH;FMTTYPE=image/jpeg:https://peguru.ca/wp-content/uploads/2022/05/4921A71A-6C7D-408A-BA8A-178E5D1B3DBD_1_201_a-copy.jpeg
END:VEVENT
BEGIN:VEVENT
DTSTART;VALUE=DATE:20260802
DTEND;VALUE=DATE:20260816
DTSTAMP:20260421T185115
CREATED:20220520T004159Z
LAST-MODIFIED:20260421T161325Z
UID:39716-1785628800-1786838399@peguru.ca
SUMMARY:Folklorama
DESCRIPTION:Winnipeg’s vibrant mix of cultures come together in celebration of their heritage during the world’s largest and longest running multicultural festival. This renowned summer fest celebrates the city’s diversity with food\, dance\, music\, and stories of its people. Indulge in Jamaican stew\, tap along to an Irish jig\, or catch sight of traditional artwork at one of many pavilions located throughout the city.
URL:https://peguru.ca/event/folklorama-2/
LOCATION:Manitoba
CATEGORIES:Music Series
ATTACH;FMTTYPE=image/jpeg:https://peguru.ca/wp-content/uploads/2022/05/Folklorama-1.jpg
END:VEVENT
BEGIN:VEVENT
DTSTART;VALUE=DATE:20260813
DTEND;VALUE=DATE:20260817
DTSTAMP:20260421T185115
CREATED:20220524T214943Z
LAST-MODIFIED:20260421T192754Z
UID:39797-1786579200-1786924799@peguru.ca
SUMMARY:Morden Corn & Apple Festival
DESCRIPTION:Launched in 1967 as part of Canada’s Centennial Celebration\, this historic three-day festival attracts crowds with street performers\, handmade goods\, and one of Manitoba’s largest parades. The family-friendly festival lives up to its name and offers free corn on the cob and cool apple juice to attendees.
URL:https://peguru.ca/event/morden-corn-apple-festival/
LOCATION:Morden\, Morden\, Manitoba\, Canada
CATEGORIES:Culinary,Family,Festivals,Music Series
ATTACH;FMTTYPE=image/jpeg:https://peguru.ca/wp-content/uploads/2022/05/Corn-Apple-2019-10.jpg
END:VEVENT
BEGIN:VEVENT
DTSTART;VALUE=DATE:20260926
DTEND;VALUE=DATE:20260927
DTSTAMP:20260421T185115
CREATED:20220520T005716Z
LAST-MODIFIED:20260421T194109Z
UID:39725-1790380800-1790467199@peguru.ca
SUMMARY:Nuit Blanche
DESCRIPTION:Familiar streets come alive with interactive installations during an exciting night that celebrates contemporary art in unexpected ways. See the city transform as talented artisans turn public spaces into something entirely new. Exhibits span St. Boniface\, Downtown\, the Exchange District\, the Forks\, and the West End on this unforgettable sleepless night.
URL:https://peguru.ca/event/nuit-blanche/
LOCATION:Downtown Winnipeg
CATEGORIES:Art,Exhibitions,Nightlife
ATTACH;FMTTYPE=image/jpeg:https://peguru.ca/wp-content/uploads/2022/05/overhead-teeter-todder-1.jpeg
END:VEVENT
END:VCALENDAR